Workbook

Sheet 2018年收入
A1: 2018年湘潭县财政总收入预算表
B2: 单位：万元
A3: 项目 | B3: 预计完成数
A4: 税收收入 | B4: =SUM(B5:B17) -> 90676
A5: 1、增值税 | B5: 35287.5
A6: 2、营业税 | B6: 649
A7: 3、企业所得税 | B7: 8699.6
A8: 4、个人所得税 | B8: 3172.4
A9: 5、资源税 | B9: 67.5
A10: 6、城市维护建设税 | B10: 5240
A11: 7、房产税 | B11: 2220
A12: 8、印花税 | B12: 1120
A13: 9、城镇土地使用税 | B13: 6020
A14: 10、车船税 | B14: 1700
A15: 11、土地增值税 | B15: 9200
A16: 12、耕地占用税 | B16: 4300
A17: 13、契税 | B17: 13000
A18: 非税收入 | B18: =SUM(B19,B21,B22,B23,B24,B25,B26) -> 115300
A19: 1、专项收入 | B19: 8100
A20: 其中：教育费附加收入（含地方教育附加） | B20: 3700
A21: 2、行政性收费收入 | B21: 5900
A22: 3、罚没收入 | B22: 6000
A23: 4、国有资源（资产）有偿使用收入 | B23: 1100
A24: 5、捐赠收入 | B24: 100
A25: 6、政府住房基金收入 | B25: 5300
A26: 7、其他收入 | B26: 88800
A27: 地方收入合计 | B27: =B4+B18 -> 205976
A28: 上划中央税收收入 | B28: 74355
A29: 上划省级税收收入 | B29: 19669
A30: 一般公共预算收入（财政总收入) | B30: =B27+B28+B29 -> 300000
A31: 其中： 国税 | B31: 107100
A32: 地税 | B32: 77600
A33: 财政 | B33: 115300

Sheet 2018年支出
A1: 2018年湘潭县一般公共预算支出表
B2: 单位：万元
A3: 项 目 | B3: 预算数
A4: 一、一般公共服务支出 | B4: 66400
A5: 二、外交支出
A6: 三、国防支出 | B6: 450
A7: 四、公共安全支出 | B7: 23800
A8: 五、教育支出 | B8: 89000
A9: 六、科学技术支出 | B9: 4340
A10: 七、文化体育与传媒支出 | B10: 6000
A11: 八、社会保障和就业支出 | B11: 97060
A12: 九、医疗卫生和计划生育支出 | B12: 62500
A13: 十、节能环保支出 | B13: 7840
A14: 十一、城乡社区支出 | B14: 20294
A15: 十二、农林水支出 | B15: 83462
A16: 十三、交通运输支出 | B16: 11600
A17: 十四、资源勘探信息等支出 | B17: 5300
A18: 十五、商业服务业等支出 | B18: 4000
A19: 十六、金融支出
A20: 十七、援助其他地区支出
A21: 十八、国土海洋气象等支出 | B21: 7000
A22: 十九、住房保障支出 | B22: 5000
A23: 二十、粮油物资储备支出 | B23: 1400
A24: 二十一、预备费 | B24: 6000
A25: 二十二、其他支出 | B25: 1000
A26: 二十三、债务还本支出
A27: 二十四、债务付息支出 | B27: 12700
A28: 二十五、债务发行费用支出
A29: 公共财政支出合计 | B29: =SUM(B4:B28) -> 515146

Sheet 2018年一般公共预算收支平衡表 
A1: 湘潭县2018年一般公共预算收支平衡表
A2: 单位：万元
A3: 预算科目 | B3: 年初 | C3: 预计完成 | D3: 财力性 | E3: 差额 | F3: 金额 | G3: 2017财力 | H3: 预算科目 | I3: 年初 | J3: 预计完成 | K3: 差额 | L3: 金额
A4: 一般公共预算收入 | B4: 200687 | C4: 187817 | D4: 187817 | E4: =B4-C4 -> 12870 | F4: ='2018年收入'!B27 -> 205976 | G4: =F4 -> 205976 | H4: 一般公共预算支出 | I4: 442950 | J4: =454860+3506+2962 -> 461328 | K4: =I4-J4 -> -18378 | L4: 515146
A5: 上级补助收入 | B5: =SUM(B6,B11,B25) -> 247363 | C5: =SUM(C6,C11,C25) -> 253005 | D5: =SUM(D6,D11,D25) -> 77283 | E5: =SUM(E6,E11,E25) -> -5642 | F5: =SUM(F6,F11,F25) -> 288004 | G5: =SUM(G6,G11,G25) -> 66261 | H5: 补助下级支出 | I5: =SUM(I6,I11,I24) -> 0 | K5: =I5-J5 -> 0
A6: 返还性收入 | B6: =SUM(B7:B10) -> 10095 | C6: =SUM(C7:C10) -> 8664 | D6: =SUM(D7:D10) -> 7021 | E6: =B6-C6 -> 1431 | F6: =SUM(F7:F10) -> 36688 | G6: =SUM(G7:G10) -> 8769 | H6: 返还性支出 | I6: =SUM(I7:I10) -> 0 | K6: =I6-J6 -> 0
A7: 增值税和消费税税收返还收入 | B7: 5050 | C7: =5489+6 -> 5495 | D7: =5489+6 -> 5495 | E7: =B7-C7 -> -445 | F7: 8106 | G7: 5600 | H7: 增值税和消费税税收返还支出 | I7: 0 | K7: =I7-J7 -> 0
A8: 所得税基数返还收入 | B8: 702 | C8: 702 | D8: 702 | E8: =B8-C8 -> 0 | F8: 702 | G8: 702 | H8: 所得税基数返还支出 | I8: 0 | K8: =I8-J8 -> 0
A9: 成品油价格和税费改革税收返还收入 | B9: 1643 | C9: 1643 | E9: =B9-C9 -> 0 | F9: 1643 | G9: 1643 | H9: 成品油价格和税费改革税收返还支出 | I9: 0 | K9: =I9-J9 -> 0
A10: 其他税收返还收入 | B10: 2700 | C10: =824 -> 824 | D10: 824 | E10: =B10-C10 -> 1876 | F10: 26237 | G10: =824 -> 824 | H10: 其他税收返还支出 | I10: 0 | K10: =I10-J10 -> 0
A11: 一般性转移支付收入 | B11: =SUM(B12:B24) -> 139768 | C11: =SUM(C12:C24) -> 146841 | D11: =SUM(D12:D24) -> 70262 | E11: =B11-C11 -> -7073 | F11: =SUM(F12:F24) -> 157316 | G11: =SUM(G12:G24) -> 57492 | H11: 一般性转移支付支出 | I11: =SUM(I12:I23) -> 0 | K11: =I11-J11 -> 0
A12: 均衡性转移支付收入 | B12: 22068 | C12: =22068+220+5255 -> 27543 | D12: =22068+220+5255 -> 27543 | E12: =B12-C12 -> -5475 | F12: 37112 | G12: =27543+2452 -> 29995 | H12: 均衡性转移支付支出 | I12: 0 | K12: =I12-J12 -> 0
A13: 老少边穷转移支付收入 | C13: 2141 | E13: =B13-C13 -> -2141 | F13: 2200 | H13: 革命老区及民族和边境地区转移支付支出 | I13: 0 | K13: =I13-J13 -> 0
A14: 县级基本财力保障机制奖补资金收入 | B14: 7170 | C14: =7170+618+2022 -> 9810 | D14: =7170+2022 -> 9192 | E14: =B14-C14 -> -2640 | F14: 7470 | G14: 9192 | H14: 县级基本财力保障机制奖补资金支出 | I14: 0 | K14: =I14-J14 -> 0
A15: 结算补助收入 | B15: 1000 | C15: =691+118 -> 809 | D15: 118 | E15: =B15-C15 -> 191 | F15: 5337 | G15: 311 | H15: 结算补助支出 | I15: 0 | K15: =I15-J15 -> 0
A16: 企业事业单位划转补助收入 | F16: 272 | H16: 基层公检法司转移支付支出 | I16: 0 | K16: =I16-J16 -> 0
A17: 基层公检法司转移支付收入 | B17: 1295 | C17: 1093 | E17: =B17-C17 -> 202 | F17: 2038 | H17: 义务教育等转移支付支出 | I17: 0 | K17: =I17-J17 -> 0
A18: 义务教育等转移支付收入 | B18: 11604 | C18: 9886 | D18: 1710 | E18: =B18-C18 -> 1718 | F18: 9972 | H18: 基本养老保险和低保等转移支付支出 | I18: 0 | K18: =I18-J18 -> 0
A19: 基本养老保险和低保等转移支付收入 | B19: 32180 | C19: 25920 | E19: =B19-C19 -> 6260 | F19: 25920 | H19: 新型农村合作医疗等转移支付支出 | I19: 0 | K19: =I19-J19 -> 0
A20: 新型农村合作医疗等转移支付收入 | B20: 31722 | C20: 30581 | D20: 446 | E20: =B20-C20 -> 1141 | F20: 33469 | H20: 农村综合改革转移支付支出 | I20: 0 | K20: =I20-J20 -> 0
A21: 农村综合改革转移支付收入 | B21: 3000 | C21: 2729 | E21: =B21-C21 -> 271 | F21: 3575 | G21: 441 | H21: 产粮(油)大县奖励资金支出 | I21: 0 | K21: =I21-J21 -> 0
A22: 产粮(油)大县奖励资金收入 | B22: 4500 | C22: 4296 | D22: 4296 | E22: =B22-C22 -> 204 | F22: 4296 | G22: 4000 | H22: 固定数额补助支出 | I22: 0 | K22: =I22-J22 -> 0
A23: 固定数额补助收入 | B23: 25229 | C23: =14221+528+308+11008+361 -> 26426 | D23: =14221+308+11008+361 -> 25898 | E23: =B23-C23 -> -1197 | F23: 22962 | G23: 12494 | H23: 其他一般性转移支付支出 | I23: 0 | K23: =I23-J23 -> 0
A24: 其他一般性转移支付收入 | C24: =1059+1746+2802 -> 5607 | D24: 1059 | E24: =B24-C24 -> -5607 | F24: =1911+800-18 -> 2693 | G24: 1059 | H24: 专项转移支付支出 | I24: 0 | K24: =I24-J24 -> 0
A25: 专项转移支付收入 | B25: 97500 | C25: 97500 | E25: =B25-C25 -> 0 | F25: 94000 | H25: 上解上级支出 | I25: =SUM(I26:I28) -> 10500 | J25: =SUM(J26:J28) -> 10500 | K25: =SUM(K26:K28) -> 0 | L25: =SUM(L26:L28) -> 11500
A26: 下级上解收入 | B26: =SUM(B27:B29) -> 0 | E26: =B26-C26 -> 0 | H26: 体制上解支出 | I26: 1022 | J26: 1022 | K26: =I26-J26 -> 0 | L26: 1022
A27: 体制上解收入 | B27: 0 | E27: =B27-C27 -> 0 | H27: 出口退税专项上解支出 | I27: 8 | J27: 8 | K27: =I27-J27 -> 0 | L27: 8
A28: 出口退税专项上解收入 | B28: 0 | E28: =B28-C28 -> 0 | H28: 专项上解支出 | I28: 9470 | J28: 9470 | K28: =I28-J28 -> 0 | L28: 10470
A29: 专项上解收入 | B29: 0 | E29: =B29-C29 -> 0 | H29: 债务还本支出 | I29: =I30 -> 70400 | J29: =J30 -> 124716 | K29: =K30 -> -54316 | L29: =L30 -> 5667
A30: 债务收入 | B30: =B31 -> 0 | E30: =B30-C30 -> 0 | F30: =F31 -> 10800 | H30: 地方政府债务还本支出 | I30: =I31 -> 70400 | J30: =J31 -> 124716 | K30: =K31 -> -54316 | L30: =L31 -> 5667
A31: 地方政府债务收入 | B31: =B32 -> 0 | E31: =B31-C31 -> 0 | F31: =F32 -> 10800 | H31: 一般债务还本支出 | I31: =SUM(I32:I33) -> 70400 | J31: =SUM(J32:J33) -> 124716 | K31: =SUM(K32:K33) -> -54316 | L31: =SUM(L32:L33) -> 5667
A32: 一般债务收入 | B32: =SUM(B33:B34) -> 0 | E32: =B32-C32 -> 0 | F32: =F33+F34 -> 10800 | H32: 地方政府一般债券还本支出 | I32: 4600 | J32: 4600 | K32: =I32-J32 -> 0 | L32: 5667
A33: 地方政府一般债券收入 | B33: 0 | E33: =B33-C33 -> 0 | F33: 10800 | H33: 地方政府其他一般债务还本支出 | I33: 65800 | J33: =142216-22100 -> 120116 | K33: =I33-J33 -> -54316
A34: 地方政府其他一般债务收入 | B34: 0 | E34: =B34-C34 -> 0 | H34: 债务转贷支出 | I34: =I35 -> 0 | K34: =I34-J34 -> 0
A35: 债务转贷收入 | B35: =B36 -> 65800 | C35: =C36 -> 142215.58 | E35: =B35-C35 -> -76415.58 | H35: 地方政府一般债务转贷支出 | I35: =SUM(I36:I36) -> 0 | K35: =I35-J35 -> 0
A36: 地方政府一般债务转贷收入 | B36: =SUM(B37:B37) -> 65800 | C36: =SUM(C37:C37) -> 142215.58 | E36: =B36-C36 -> -76415.58 | H36: 地方政府一般债券转贷支出 | K36: =I36-J36 -> 0
A37: 地方政府一般债券转贷收入 | B37: 65800 | C37: =107115.58+13000+22100 -> 142215.58 | E37: =B37-C37 -> -76415.58 | H37: 安排预算稳定调节基金 | K37: =I37-J37 -> 0
A38: 上年结转收入 | F38: 530 | H38: 调出资金
A39: 调入预算稳定调节基金 | B39: 10000 | C39: 13506 | E39: =B39-C39 -> -3506 | H39: 年终结余 | I39: 0 | K39: =I39-J39 -> 0
A40: 调入资金 | E40: =B40-C40 -> 0 | F40: =SUM(F41:F42) -> 27003 | I40: =B43-I4-I5-I25-I29-I34-I37-I39 -> 0 | K40: =I40-J40 -> 0
...

Sheet 政府性基金
A1: 湘潭县2018年本级政府性基金收支预算总表
A3: 资金主管：县人民政府 | G3: 单位：万元
A4: 项目 | B4: 上年结余 | C4: 本级收入 | D4: 支出合计 | E4: 本级支出 | G4: 调入一般公共预算支出 | H4: 上解支出 | I4: 结余
E5: 业务性专项支出 | F5: 其他资本性专项支出
A6: 新型墙体材料专项基金 | B6: 133 | D6: =SUM(E6:H6) -> 133 | G6: 133 | I6: =B6+C6-D6 -> 0
A7: 污水处理费 | C7: 960 | D7: =SUM(E7:H7) -> 960 | E7: ='[1]污水处理费 '!G11 -> 960 | I7: =B7+C7-D7 -> 0
A8: 国有土地使用权出让 | C8: 84270 | D8: =SUM(E8:H8) -> 84270 | E8: =[1]国有土地使用权出让基金收支预算!G12 -> 0 | F8: =[1]国有土地使用权出让基金收支预算!G13 -> 72440 | G8: =[1]国有土地使用权出让基金收支预算!G19 -> 11830 | I8: =B8+C8-D8 -> 0
A9: 国有土地收益基金 | C9: 5000 | D9: =SUM(E9:H9) -> 5000 | E9: =[1]国有土地收益基金收支预算!G14 -> 5000 | I9: =B9+C9-D9 -> 0
A10: 农业土地开发资金 | C10: 730 | D10: =SUM(E10:H10) -> 730 | E10: ='[1]农业土地开发资金（基金）收支预算'!G12 -> 0 | F10: ='[1]农业土地开发资金（基金）收支预算'!G13 -> 511 | H10: ='[1]农业土地开发资金（基金）收支预算'!G15 -> 219 | I10: =B10+C10-D10 -> 0
A11: 城市基础设施配套费 | C11: 5040 | D11: =SUM(E11:H11) -> 5040 | G11: 5040 | I11: =B11+C11-D11 -> 0
A12: 合计 | B12: =SUM(B6:B11) -> 133 | C12: =SUM(C6:C11) -> 96000 | D12: =SUM(D6:D11) -> 96133 | E12: =SUM(E6:E11) -> 5960 | F12: =SUM(F6:F11) -> 72951 | G12: =SUM(G6:G11) -> 17003 | H12: =SUM(H6:H11) -> 219 | I12: =B12+C12-D12 -> 0

Sheet 国有资本表
A1: 湘潭县2018年国有资本经营预算收支总表
A3: 填报单位：县国有资产管理办公室 | D3: 单位：万元
A4: 收 入 | C4: 支 出
A5: 项 目 | B5: 预算数 | C5: 项 目 | D5: 预算数
A6: 本年收入合计 | B6: =B7+B15 -> 10110 | C6: 本年支出合计 | D6: =SUM(D7:D18) -> 110
A7: 一、利润收入 | B7: =SUM(B8:B11) -> 9600 | C7: 一、教育 | D7: 100
A8: 1、湘潭县建设投资有限公司 | B8: 6000 | C8: 二、科学技术
A9: 2、湘潭县农业农村建设投资有限公司 | B9: 1200 | C9: 三、文化体育与传媒 | D9: 10
A10: 3、湘潭县交通运输建设投资有限公司 | B10: 1200 | C10: 四、社会保障和就业
A11: 4、湘潭县文化旅游建设投资有限公司 | B11: 1200 | C11: 五、节能环保
A12: 二、股利、股息收入 | C12: 六、城乡社区事务
A13: 三、产权转让收入 | C13: 七、农林水事务
A14: 四、清算收入 | C14: 八、交通运输
A15: 五、其他国有资本经营收入 | B15: 510 | C15: 九、资源勘探电力信息等事务
A16: 1、湘潭江声实验中学 | B16: 400 | C16: 十、商业服务业等事务
A17: 2、湘潭县教师进修学校 | B17: 100 | C17: 十一、其他支出
A18: 3、湘潭县凤凰广播电视数字微波传输有限责任公司 | B18: 10 | C18: 十二、转移性支出
A22: 上年结转 | C22: 结转下年
C23: 国有资本经营预算调出资金 | D23: 10000
C24: 调出至公共财政预算 | D24: 10000
A25: 收 入 总 计 | B25: =B6+B22 -> 10110 | C25: 支 出 总 计 | D25: =D6+D22+D23 -> 10110

Sheet 保险基金总表
A1: 2018年社会保险基金预算总表
I2: 社预01表
A3: 湘潭县 | J3: 单位：元
A4: 项 目 | B4: 合计 | C4: 企业职工基本养老保险基金 | D4: 城乡居民基本养老保险基金 | E4: 机关事业单位基本养老保险基金 | F4: 职工基本医疗保险基金 | G4: 城乡居民基本医疗保险基金 | H4: 工伤保险基金 | I4: 失业保险基金 | J4: 生育保险基金
A5: 一、收入 | B5: 1.3464579e+09 | C5: 0 | D5: 2.4102015e+08 | E5: 3.9239517e+08 | F5: 1.2898919e+08 | G5: 536456340 | H5: 20058334 | I5: 20957713 | J5: 6581027.9
A6: 其中： 1、保险费收入 | B6: 5.5486846e+08 | C6: 0 | D6: 39321300 | E6: 2.0823685e+08 | F6: 1.2416386e+08 | G6: 144349920 | H6: 20036334 | I6: 12658811 | J6: 6101388.2
A7: 2、利息收入 | B7: 8526964.7 | C7: 0 | D7: 750000 | E7: 550000 | F7: 4825325 | G7: 1700000 | H7: 22000 | I7: 200000 | J7: 479639.72
A8: 3、财政补贴收入 | B8: 7.7425559e+08 | C8: 0 | D8: 2.0064085e+08 | E8: 1.8360832e+08 | F8: 0 | G8: 390006420 | H8: 0 | I8: 0 | J8: 0
A9: 4、委托投资收益 | B9: 0 | C9: 0 | D9: 0 | E9: 0 | F9: × | G9: × | H9: × | I9: × | J9: ×
A10: 5、其他收入 | B10: 590000 | C10: 0 | D10: 190000 | E10: 0 | F10: 0 | G10: 400000 | H10: 0 | I10: 0 | J10: 0
A11: 6、转移收入 | B11: 216902.47 | C11: 0 | D11: 118000 | E11: 0 | F11: 0 | G11: × | H11: × | I11: 98902.47 | J11: ×
A12: 二、支出 | B12: 1.3232266e+09 | C12: 0 | D12: 1.9770905e+08 | E12: 3.9239517e+08 | F12: 120715427 | G12: 5.2448929e+08 | H12: 20016429 | I12: 63608840 | J12: 4292419.8
A13: 其中： 1、社会保险待遇支出 | B13: 1.2932098e+09 | C13: 0 | D13: 1.9672705e+08 | E13: 3.9239517e+08 | F13: 120715427 | G13: 5.0067046e+08 | H13: 17684595 | I13: 60724629 | J13: 4292419.8
A14: 2、其他支出 | B14: 0 | C14: 0 | D14: 0 | E14: 0 | F14: 0 | G14: 0 | H14: 0 | I14: 0 | J14: 0
A15: 3、转移支出 | B15: 982000 | C15: 0 | D15: 982000 | E15: 0 | F15: 0 | G15: × | H15: × | I15: 0 | J15: ×
A16: 三、本年收支结余 | B16: 23231290 | C16: 0 | D16: 43311095 | E16: 0 | F16: 8273760.2 | G16: 11967048 | H16: 41905.01 | I16: -42651127 | J16: 2288608.1
A17: 四、年末滚存结余 | B17: 9.3191417e+08 | C17: 0 | D17: 5.1116404e+08 | E17: 36892949 | F17: 2.3129657e+08 | G17: 1.0679475e+08 | H17: 9268185.6 | I17: 9822891.3 | J17: 26674783
J18: 第 1 页
A21: 2018年社会保险基金预算总表
A23: 湘潭县 | J23: 单位：万元
A24: 项 目 | B24: 合计 | C24: 企业职工基本养老保险基金 | D24: 城乡居民基本养老保险基金 | E24: 机关事业单位基本养老保险基金 | F24: 职工基本医疗保险基金 | G24: 城乡居民基本医疗保险基金 | H24: 工伤保险基金 | I24: 失业保险基金 | J24: 生育保险基金
A25: 一、收入 | B25: =B5/10000 -> 134645.79 | C25: 0 | D25: =D5/10000 -> 24102.015 | E25: =E5/10000 -> 39239.517 | F25: =F5/10000 -> 12898.919 | G25: =G5/10000 -> 53645.634 | H25: =H5/10000 -> 2005.8334 | I25: =I5/10000 -> 2095.7713 | J25: =J5/10000 -> 658.10279
A26: 其中： 1、保险费收入 | B26: =B6/10000 -> 55486.846 | C26: 0 | D26: =D6/10000 -> 3932.13 | E26: =E6/10000 -> 20823.685 | F26: =F6/10000 -> 12416.386 | G26: =G6/10000 -> 14434.992 | H26: =H6/10000 -> 2003.6334 | I26: =I6/10000 -> 1265.8811 | J26: =J6/10000 -> 610.13882
A27: 2、利息收入 | B27: =B7/10000 -> 852.69647 | C27: 0 | D27: =D7/10000 -> 75 | E27: =E7/10000 -> 55 | F27: =F7/10000 -> 482.5325 | G27: =G7/10000 -> 170 | H27: =H7/10000 -> 2.2 | I27: =I7/10000 -> 20 | J27: =J7/10000 -> 47.963972
A28: 3、财政补贴收入 | B28: =B8/10000 -> 77425.559 | C28: 0 | D28: =D8/10000 -> 20064.085 | E28: =E8/10000 -> 18360.832 | F28: =F8/10000 -> 0 | G28: =G8/10000 -> 39000.642 | H28: =H8/10000 -> 0 | I28: =I8/10000 -> 0 | J28: =J8/10000 -> 0
A29: 4、委托投资收益 | B29: =B9/10000 -> 0 | C29: 0 | D29: =D9/10000 -> 0 | E29: =E9/10000 -> 0
A30: 5、其他收入 | B30: =B10/10000 -> 59 | C30: 0 | D30: =D10/10000 -> 19 | E30: =E10/10000 -> 0 | F30: =F10/10000 -> 0 | G30: =G10/10000 -> 40 | H30: =H10/10000 -> 0 | I30: =I10/10000 -> 0 | J30: =J10/10000 -> 0
A31: 6、转移收入 | B31: =B11/10000 -> 21.690247 | C31: 0 | D31: =D11/10000 -> 11.8 | E31: =E11/10000 -> 0 | F31: =F11/10000 -> 0 | I31: =I11/10000 -> 9.890247
A32: 二、支出 | B32: =B12/10000 -> 132322.66 | C32: 0 | D32: =D12/10000 -> 19770.905 | E32: =E12/10000 -> 39239.517 | F32: =F12/10000 -> 12071.543 | G32: =G12/10000 -> 52448.929 | H32: =H12/10000 -> 2001.6429 | I32: =I12/10000 -> 6360.884 | J32: =J12/10000 -> 429.24198
A33: 其中： 1、社会保险待遇支出 | B33: =B13/10000 -> 129320.98 | C33: 0 | D33: =D13/10000 -> 19672.705 | E33: =E13/10000 -> 39239.517 | F33: =F13/10000 -> 12071.543 | G33: =G13/10000 -> 50067.046 | H33: =H13/10000 -> 1768.4595 | I33: =I13/10000 -> 6072.4629 | J33: =J13/10000 -> 429.24198
A34: 2、其他支出 | B34: =B14/10000 -> 0 | C34: 0 | D34: =D14/10000 -> 0 | E34: =E14/10000 -> 0 | F34: =F14/10000 -> 0 | G34: =G14/10000 -> 0 | H34: =H14/10000 -> 0 | I34: =I14/10000 -> 0 | J34: =J14/10000 -> 0
A35: 3、转移支出 | B35: =B15/10000 -> 98.2 | C35: 0 | D35: =D15/10000 -> 98.2 | E35: =E15/10000 -> 0 | F35: =F15/10000 -> 0 | I35: =I15/10000 -> 0
A36: 三、本年收支结余 | B36: =B16/10000 -> 2323.129 | C36: 0 | D36: =D16/10000 -> 4331.1095 | E36: =E16/10000 -> 0 | F36: =F16/10000 -> 827.37602 | G36: =G16/10000 -> 1196.7048 | H36: =H16/10000 -> 4.190501 | I36: =I16/10000 -> -4265.1127 | J36: =J16/10000 -> 228.86081
A37: 四、年末滚存结余 | B37: =B17/10000 -> 93191.417 | C37: 0 | D37: =D17/10000 -> 51116.404 | E37: =E17/10000 -> 3689.2949 | F37: =F17/10000 -> 23129.657 | G37: =G17/10000 -> 10679.475 | H37: =H17/10000 -> 926.81856 | I37: =I17/10000 -> 982.28913 | J37: =J17/10000 -> 2667.4783
