Workbook

Sheet 目录
A1: 目录
A2: 表一 | B2: =表1!A1 -> 湘潭县2025年一般公共预算收入预算表
A3: 表二 | B3: =表2!A1 -> 湘潭县2025年一般公共预算支出预算表
A4: 表三 | B4: =表3!A1 -> 湘潭县2025年一般公共预算支出明细表
A5: 表四 | B5: =表4!A1 -> 湘潭县2025年一般公共预算基本支出预算表
A6: 表五 | B6: =表5!A1 -> 湘潭县2025年一般公共预算收支平衡表
A7: 表六 | B7: =表6!A1 -> 湘潭县2025年一般公共预算税收返还和转移支付预算表
A8: 表七 | B8: ='表7 '!A1 -> 湘潭县2025年本级一般公共预算 专项转移支付分地区、分项目情况表
A9: 表八 | B9: =表8!A1 -> 湘潭县2025年本级“三公”经费支出预算表
A10: 表九 | B10: =表9!A1 -> 湘潭县2025年政府性基金收支预算总表
A11: 表十 | B11: =表10!A1 -> 湘潭县2025年政府性基金收入预算表
A12: 表十一 | B12: =表11!A1 -> 湘潭县2025年政府性基金支出预算表
A13: 表十二 | B13: =表12!A1 -> 湘潭县2025年政府性基金预算转移支付情况表
A14: 表十三 | B14: =表13!A1 -> 湘潭县2025年国有资本经营收支预算总表
A15: 表十四 | B15: =表14!A1 -> 湘潭县2025年国有资本经营预算收入明细表
A16: 表十五 | B16: =表15!A1 -> 湘潭县2025年国有资本经营预算支出明细表
A17: 表十六 | B17: =表16!A1 -> 湘潭县2025年国有资本经营预算转移支付情况表
A18: 表十七 | B18: =表17!A1 -> 湘潭县2025年社会保险基金收支预算总表
A19: 表十八 | B19: =表18!A1 -> 湘潭县2025年社会保险基金收入预算表
A20: 表十九 | B20: =表19!A1 -> 湘潭县2025年社会保险基金支出预算表
A21: 表二十 | B21: =表20!A1 -> 湘潭县2025年本级政府一般债务限额和余额情况表
A22: 表二十一 | B22: =表21!A1 -> 湘潭县2025年本级政府专项债务限额和余额情况表
A23: 表二十二 | B23: =表22!A1 -> 湘潭县2025年本级新增地方政府债券资金使用安排
A24: 表二十三 | B24: =表23!A1 -> 湘潭县2025年重大政策和重点项目绩效目标表

Sheet 表1
A1: 湘潭县2025年一般公共预算收入预算表
B2: 单位：万元
A3: 项 目 | B3: 2025年预算数
A4: 一、税收收入 | B4: =SUM(B5:B17) -> 90000
A5: 1、增值税 | B5: 42505
A6: 2、企业所得税 | B6: 8095
A7: 3、个人所得税 | B7: 3100
A8: 4、资源税 | B8: 30
A9: 5、城市维护建设税 | B9: 3078
A10: 6、房产税 | B10: 5010
A11: 7、印花税 | B11: 4420
A12: 8、城镇土地使用税 | B12: 4600
A13: 9、土地增值税 | B13: 6350
A14: 10、车船税 | B14: 5020
A15: 11、耕地占用税 | B15: 320
A16: 12、契税 | B16: 7415
A17: 13、环保税 | B17: 57
A18: 二、非税收入 | B18: =SUM(B19:B26) -> 40000
A19: 1、专项收入 | B19: 9500
A20: 2、行政性收费收入 | B20: 6000
A21: 3、罚没收入 | B21: 15000
A22: 4、国有资本经营收入 | B22: 0
A23: 5、国有资源（资产）有偿使用收入 | B23: 2000
A24: 6、捐赠收入 | B24: 200
A25: 7、政府住房基金收入 | B25: 2000
A26: 8、其他收入 | B26: 5300
A27: 合 计 | B27: =B4+B18 -> 130000

Sheet 表2
A1: 湘潭县2025年一般公共预算支出预算表
B2: 单位：万元
A3: 项 目 | B3: 2025年预算数
A4: 一、一般公共服务支出 | B4: 61046
A5: 二、外交支出
A6: 三、国防支出 | B6: 266
A7: 四、公共安全支出 | B7: 16957
A8: 五、教育支出 | B8: 103524
A9: 六、科学技术支出 | B9: 1824
A10: 七、文化体育与传媒支出 | B10: 3275
A11: 八、社会保障和就业支出 | B11: 125805
A12: 九、医疗卫生与计划生育支出 | B12: 34198
A13: 十、节能环保支出 | B13: 2460
A14: 十一、城乡社区支出 | B14: 10279
A15: 十二、农林水支出 | B15: 74965
A16: 十三、交通运输支出 | B16: 19537
A17: 十四、资源勘探工业信息等支出 | B17: 496
... A19: 十六、金融支出 | B19: 200
A20: 十七、援助其他地区支出
A21: 十八、自然资源海洋气象等支出 | B21: 3446
A22: 十九、住房保障支出 | B22: 8620
A23: 二十、粮油物资储备支出 | B23: 1319
A24: 二十一、灾害防治及应急管理支出 | B24: 2041
A25: 二十二、预备费 | B25: 6000
A26: 二十三、其他支出
A27: 二十四、债务付息支出 | B27: 17800
A28: 二十五、上解上解支出 | B28: 19000
A29: 合 计 | B29: =SUM(B4:B28) -> 514313

Sheet 表3
A1: 湘潭县2025年一般公共预算支出明细表
A2: 单位：万元
A3: 科目代码 | B3: 科目名称 | C3: 预算数
B4: 支出合计 | C4: =C5+C112+C117+C131+C147+C160+C179+C241+C278+C285+C296+C347+C356+C359+C363+C366+C374+C381+C388+C401+C402 -> 495313.5
A5: 201 | B5: 一般公共服务支出 | C5: =C6+C11+C17+C23+C27+C34+C42+C49+C51+C55+C61+C64+C68+C73+C77+C83+C86+C92+C95+C98+C102+C106+C110 -> 61046.662
A6: 20101 | B6: 人大事务 | C6: 6974.2259
A7: 2010101 | B7: 行政运行 | C7: 6398.5259
A8: 2010102 | B8: 一般行政管理事务 | C8: 432.45
A9: 2010104 | B9: 人大会议 | C9: 134.7
A10: 2010108 | B10: 代表工作 | C10: 8.55
A11: 20102 | B11: 政协事务 | C11: 628
A12: 2010201 | B12: 行政运行 | C12: 420.95039
A13: 2010202 | B13: 一般行政管理事务 | C13: 16
A14: 2010204 | B14: 政协会议 | C14: 108
A15: 2010206 | B15: 参政议政 | C15: 55
A16: 2010299 | B16: 其他政协事务支出 | C16: 28
A17: 20103 | B17: 政府办公厅(室)及相关机构事务 | C17: 33538.251
... A111: 2019999 | B111: 其他一般公共服务支出 | C111: 2167.9388
A112: 203 | B112: 国防支出 | C112: =C113+C115 -> 265.72
A113: 20306 | B113: 国防动员 | C113: 39.12
A114: 2030601 | B114: 兵役征集 | C114: 39.12
A115: 20399 | B115: 其他国防支出 | C115: 226.6
A116: 2039999 | B116: 其他国防支出 | C116: 226.6
A117: 204 | B117: 公共安全支出 | C117: =C118+C123 -> 16957.552
A118: 20402 | B118: 公安 | C118: 15342.85
A119: 2040201 | B119: 行政运行 | C119: 7285.9994
A120: 2040202 | B120: 一般行政管理事务 | C120: 2536.9604
A121: 2040220 | B121: 执法办案 | C121: 1387.99
A122: 2040299 | B122: 其他公安支出 | C122: 4131.9
A123: 20406 | B123: 司法 | C123: 1614.7021
A124: 2040601 | B124: 行政运行 | C124: 1319.7021
A125: 2040602 | B125: 一般行政管理事务 | C125: 96
A126: 2040604 | B126: 基层司法业务 | C126: 5
A127: 2040605 | B127: 普法宣传 | C127: 9
A128: 2040607 | B128: 公共法律服务 | C128: 100.2
A129: 2040610 | B129: 社区矫正 | C129: 30.8
A130: 2040699 | B130: 其他司法支出 | C130: 54
A131: 205 | B131: 教育支出 | C131: =C132+C135+C140+C142+C144 -> 103524.42
A132: 20501 | B132: 教育管理事务 | C132: 1128.4088
A133: 2050101 | B133: 行政运行 | C133: 1098.4088
...

Sheet 表4
A1: 湘潭县2025年一般公共预算基本支出预算表
A2: 单位：万元
A3: 科目编码 | B3: 科目名称 | C3: 预算数
B4: 合计 | C4: =C5+C10+C20+C23 -> 173072
A5: 501 | B5: 机关工资福利支出 | C5: =SUM(C6:C9) -> 154288
A6: 50101 | B6: 工资奖金津补贴 | C6: 112639
A7: 50102 | B7: 社会保障缴费 | C7: 25895
A8: 50103 | B8: 住房公积金 | C8: 12811
A9: 50199 | B9: 其他工资福利支出 | C9: 2943
A10: 502 | B10: 机关商品和服务支出 | C10: =SUM(C11:C19) -> 12127
A11: 50201 | B11: 办公经费 | C11: 9990
A12: 50202 | B12: 会议费 | C12: 75
A13: 50203 | B13: 培训费 | C13: 81
A14: 50204 | B14: 专用材料购置费 | C14: 24
A15: 50205 | B15: 委托业务费 | C15: 237
A16: 50206 | B16: 公务接待费 | C16: 44
A17: 50208 | B17: 公务用车运行维护费 | C17: 616
A18: 50209 | B18: 维修（护）费 | C18: 320
A19: 50299 | B19: 其他商品和服务支出 | C19: 740
A20: 505 | B20: 对事业单位经常性补助 | C20: =SUM(C21:C22) -> 5616
A21: 50501 | B21: 工资福利支出 | C21: 5196
A22: 50502 | B22: 商品和服务支出 | C22: 420
A23: 509 | B23: 对个人和家庭的补助 | C23: =SUM(C24:C28) -> 1041
A24: 50901 | B24: 社会福利和救助 | C24: 1041
A25: 50902 | B25: 助学金
A26: 50903 | B26: 个人农业生产补贴
A27: 50905 | B27: 离退休费
A28: 50999 | B28: 其他对个人和家庭补助

Sheet 表5
A1: 湘潭县2025年一般公共预算收支平衡表
A2: 单位：万元
A3: 预算科目 | B3: 年初预算 | C3: 预算科目 | D3: 年初预算
A4: 一、本年收入 | B4: 130000 | C4: 一、本年支出 | D4: 495312.66
A5: 二、上级补助收入 | B5: =B6+B7+B19 -> 364813 | C5: 其中：地方政府一般债券付息支出 | D5: 17800
A6: （一）返还性收入 | B6: 15766
A7: （二）一般性转移支付收入 | B7: =SUM(B8:B18) -> 321047 | C7: 二、上解上级支出 | D7: 19000
A8: (1)均衡性转移支付收入 | B8: 89581
A9: (2)县级基本财力保障机制奖补资金收入 | B9: 21746 | C9: 三、区域间转移性支出
A10: (3)结算补助收入 | B10: 4801
A11: (4)资源枯竭型城市转移支付补助收入 | B11: 1280 | C11: 四、债务还本支出
A12: (5)企业事业单位划转补助收入 | B12: 272 | C12: （一）地方政府一般债券还本支出
A13: (6)产粮（油）大县奖励资金收入 | B13: 4387 | C13: （二）地方政府向外国政府借款还本支出
A14: (7)固定数额补助收入 | B14: 24397 | C14: （三）地方政府向国际组织借款还本支出
A15: (8)革命老区转移支付收入 | B15: 2609 | C15: （四）地方政府其他一般债务还本支出
A16: (9)乡村振兴转移支付收入 | B16: 7000
A17: (10)共同财政事权转移支付收入 | B17: 127177 | C17: 五、补充预算周转金
A18: (11)其他一般性转移支付收入 | B18: 37797
A19: （三）专项转移支付收入 | B19: 28000 | C19: 六、安排预算稳定调节基金
A20: 三、区域间转移性收入
A21: 四、债务转贷收入 | B21: =SUM(B22:B25) -> 0 | C21: 七、调出资金
A22: （一）再融资一般债券收入
A23: （二）新增一般债券收入 | C23: 八、待偿债置换一般债券结余
A24: （三）国际组织借款收入
A25: （四）外国政府借款收入
A26: 五、待偿债置换一般债券上年结余
A27: 六、上年结余
A28: 七、动用预算稳定调节基金
A29: 八、调入资金 | B29: =B30+B31+B32 -> 19500
A30: 1.政府性基金调入 | B30: 11500
A31: 2.国有资本经营调入
A32: 3.其他调入 | B32: 8000
A33: 收 入 总 计 | B33: =B29+B28+B27+B26+B21+B20+B5+B4 -> 514313 | C33: 支 出 总 计 | D33: =D4+D7+D9+D11+D17+D19+D21+D23 -> 514312.66

Sheet 表6
A1: 湘潭县2025年一般公共预算税收返还和转移支付预算表
C2: 单位：万元
A3: 科目代码 | B3: 科目名称 | C3: 预算数
A4: 110 | B4: 上级补助收入 | C4: =C5+C12+C24 -> 364812.97
A5: 11001 | B5: 返还性收入 | C5: =SUM(C6:C11) -> 15766
A6: 1100102 | B6: 所得税基数返还收入 | C6: 702
A7: 1100103 | B7: 成品油税费改革税收返还收入 | C7: 1766
A8: 1100104 | B8: 增值税税收返还收入 | C8: 5025
A9: 1100105 | B9: 消费税税收返还收入 | C9: 6
A10: 1100106 | B10: 增值税“五五分成”税收返还收入 | C10: 5489
A11: 1100199 | B11: 其他税收返还收入 | C11: 2778
A12: 11002 | B12: 一般性转移支付收入 | C12: =SUM(C13:C23) -> 321047
A13: 1100202 | B13: 均衡性转移支付收入 | C13: 89581
A14: 1100207 | B14: 县级基本财力保障机制奖补资金收入 | C14: 21746
A15: 1100208 | B15: 结算补助收入 | C15: 4801
A16: 1100212 | B16: 资源枯竭型城市转移支付补助收入 | C16: 1280
A17: 1100214 | B17: 企业事业单位划转补助收入 | C17: 272
A18: 1100225 | B18: 产粮（油）大县奖励资金收入 | C18: 4387
A19: 1100227 | B19: 固定数额补助收入 | C19: 24397
A20: 1100228 | B20: 革命老区转移支付收入 | C20: 2609
A21: 1100231 | B21: 巩固拓展脱贫攻坚成果衔接乡村振兴转移支付收入 | C21: 7000
A22: 1100241 | B22: 共同财政事权转移支付收入 | C22: 127177
A23: 1100299 | B23: 其他一般性转移支付收入 | C23: 37797
A24: 11003 | B24: 专项转移支付收入 | C24: =SUM(C25:C86) -> 27999.97
A25: 20103 | B25: 政府办公厅（室）及相关机构事务 | C25: 45
A26: 20104 | B26: 发展与改革事务 | C26: 500
A27: 20105 | B27: 统计信息事务 | C27: 10
A28: 20106 | B28: 财政事务 | C28: 70
A29: 20108 | B29: 审计事务 | C29: 20
A30: 20123 | B30: 民族事务 | C30: 5
A31: 20125 | B31: 港澳台事务 | C31: 30
A32: 20129 | B32: 群众团体事务 | C32: 8.78
A33: 20132 | B33: 组织事务 | C33: 15
A34: 20134 | B34: 统战事务 | C34: 17.6
A35: 20136 | B35: 其他共产党事务支出 | C35: 12
A36: 20138 | B36: 市场监督管理事务 | C36: 30
... A86: 22407 | B86: 自然灾害救灾及恢复重建支出 | C86: 105

Sheet 表7 
A1: 湘潭县2025年本级一般公共预算 专项转移支付分地区、分项目情况表
A2: 说明：我县专项转移支付没有分地区支出情况，仅分项目支出 单位:万元
A3: 项 目 | B3: 预算数
A4: 合 计 | B4: =SUM(B5:B88) -> 28000
A5: 乡村便民服务中心及“六小”设施建设补助专项 | B5: 45
A6: 农产品成本调查专项 | B6: 5
A7: 价格调控监管专项 | B7: 5
A8: 基层统计调查专项 | B8: 10
A9: 乡镇财政监管专项 | B9: 45
A10: 财政业务专项 | B10: 25
A11: 人才发展专项 | B11: 80
A12: 市场监督管理专项 | B12: 10
A13: 食品药品监管专项 | B13: 10
A14: 市场监督管理专项 | B14: 15
A15: 信访工作真抓实干奖励专项 | B15: 100
A16: 公安监管场所专项 | B16: 5
... A88: 部分单位专项经费（含涉密） | B88: 200

Sheet 表8
A1: 湘潭县2025年本级“三公”经费支出预算表
A2: 单位：万元
A3: 合计 | B3: 因公出国（境）费用 | C3: 公务接待费 | D3: 公务用车购置及运行维护费
D4: 小计 | E4: 公务用车运行维护费 | F4: 公务用车购置费
A5: =SUM(B5:D5) -> 817 | B5: 0 | C5: 89.8 | D5: =E5+F5 -> 727.2 | E5: 727.2 | F5: 0
A6: 说明：我县2025年“三公”经费安排预算817万元，较2024年减少319万元，其中公务接待费减少67万元，公务用车运行维护费减少252万元。

Sheet 表9
A1: 湘潭县2025年政府性基金收支预算总表
A2: 单位：万元
A3: 预算科目 | B3: 收入预算 | C3: 预算科目 | D3: 支出预算
A4: 一、本级收入 | B4: =B5+B6+B7+B8 -> 88673 | C4: 一、本级支出 | D4: =D5+D6+D7+D8+D9+D10 -> 77173
A5: 国有土地使用权出让收入 | B5: 85573 | C5: 国有土地使用权出让相关支出 | D5: 12610
A6: 污水处理费收入 | B6: 1700 | C6: 污水处理费相关支出 | D6: 1700
A7: 城市基础设施配套费收入 | B7: 1400 | C7: 城市基础设施配套费相关支出 | D7: 1400
A8: 其他政府性基金收入 | C8: 其他政府性基金付息支出 | D8: 49963
A9: 二、上级收入 | B9: =B10+B11+B12 -> 5000 | C9: 其他政府性基金债务还本支出 | D9: 7900
A10: 大中型水库移民后期扶持基金收入 | B10: 3000 | C10: 其他政府性基金支出 | D10: 3600
A11: 彩票公益金收入 | B11: 2000 | C11: 二、上级收入安排的支出 | D11: =D12+D13 -> 5000
A12: 地方政府专项债务转贷收入 | C12: 大中型水库库区基金相关支出 | D12: 3000
C13: 彩票公益金安排的支出 | D13: 2000
C14: 三、政府性基金预算调出资金 | D14: 11500
A15: 收入总计 | B15: =B4+B9 -> 93673 | C15: 支出总计 | D15: =D4+D11+D14 -> 93673

Sheet 表10
A1: 湘潭县2025年政府性基金收入预算表
A2: 单位：万元
A3: 项 目 | B3: 收入预算
A4: 一、国有土地使用权出让收入 | B4: 85573
A5: 二、城市基础设施配套费收入 | B5: 1400
A6: 三、污水处理费收入 | B6: 1700
A8: 收入合计 | B8: =SUM(B4:B6) -> 88673
A10: 上级补助收入 | B10: 5000
A11: 下级上解收入
A12: 调入资金
A13: 上年结转
A14: 收入总计 | B14: =B8+B10 -> 93673

Sheet 表11
A1: 湘潭县2025年政府性基金支出预算表
A2: 单位：万元
A3: 项 目 | B3: 支出预算
A4: 一、城乡社区支出 | B4: =B5+B12+B15 -> 15710
A5: 国有土地使用权出让收入安排的支出 | B5: =SUM(B6:B11) -> 12610
A6: 征地和拆迁补偿支出 | B6: 12610
A7: 土地开发支出
A8: 城市建设支出
A9: 补助被征地农民支出
A10: 土地出让业务支出
A11: 其他国有土地使用权出让收入安排的支出
A12: 城市基础设施配套费安排的支出 | B12: =B13+B14 -> 1400
A13: 城市公共设施 | B13: 1400
A14: 其他城市基础设施配套费安排的支出
A15: 污水处理费安排的支出 | B15: =B16+B17+B18 -> 1700
A16: 污水处理设施建设和运营 | B16: 1700
A17: 代征手续费
A18: 其他污水处理处理费安排的支出
A19: 二、农林水支出 | B19: =B20 -> 3000
A20: 大中型水库移民后期扶持基金支出 | B20: 3000
A21: 三、其他支出 | B21: =B22+B23 -> 5600
A22: 彩票公益金安排的支出 | B22: 2000
A23: 其他政府性基金安排的支出 | B23: 3600
A24: 三、债务还本支出 | B24: =B25 -> 7900
A25: 地方政府专项债务还本支出 | B25: 7900
A26: 四、债务付息支出 | B26: =B27 -> 49963
A27: 地方政府专项债务付息支出 | B27: 49963
A29: 支出合计 | B29: =B4+B19+B21+B24+B26 -> 82173
A31: 上解上级支出
A32: 补助下级支出
A33: 调出资金 | B33: 11500
A34: 结转下年
A36: 支出总计 | B36: =B29+B33 -> 93673

Sheet 表12
A1: 湘潭县2025年政府性基金预算转移支付情况表
B2: 单位：万元
A3: 项目 | B3: 转移支付
A4: 大中型水库移民后期扶持基金支出 | B4: 3000
A5: 彩票公益金安排的支出 | B5: 2000
A9: 合 计 | B9: =SUM(B4:B8) -> 5000

Sheet 表13
A1: 湘潭县2025年国有资本经营收支预算总表
A2: 单位：万元
A3: 收 入 | C3: 支 出
A4: 项 目 | B4: 年初预算 | C4: 项 目 | D4: 年初预算
A5: 合 计 | B5: =SUM(B6:B13) -> 15000 | C5: 合 计 | D5: =SUM(D6:D12) -> 15000
A6: 一、利润收入 | C6: 一、解决历史遗留问题及改革成本支出
A7: 二、股利、股息收入 | C7: 二、国有企业资本金注入 | D7: 15000
A8: 三、产权转让收入 | C8: 三、国有企业政策性补贴
A9: 四、清算收入 | C9: 四、其他国有资本经营预算支出
A10: 五、其他国有资本经营收入 | B10: 15000 | C10: 五、调出资金
A11: 六、转移支付收入 | C11: 六、补充社会保险基金
A12: 七、上解收入 | C12: 七、年终结余
A13: 八、上年结转收入

Sheet 表14
A1: 湘潭县2025年国有资本经营预算收入明细表
B2: 单位：万元
A3: 项 目 | B3: 年初预算
A4: 本年收入合计 | B4: =B5+B6+B8+B10+B11+B14+B15 -> 15000
A5: 一、利润收入
A6: 二、股利、股息收入
A7: 湘潭京湘供水有限责任公司
A8: 三、产权转让收入
A9: 湘潭莲乡发展集团有限公司
A10: 四、清算收入
A11: 五、其他国有资本经营收入 | B11: =SUM(B12:B13) -> 15000
A12: 湘潭县莲乡融资担保有限公司
A13: 湘潭莲乡发展集团有限公司 | B13: 15000
A14: 六、国有资产占用收入
A15: 七、上年结转

Sheet 表15
A1: 湘潭县2025年国有资本经营预算支出明细表
B2: 单位：万元
A3: 项 目 | B3: 年初预算
A4: 合 计 | B4: =SUM(B5:B13) -> 15000
A5: 一、解决历史遗留问题及改革成本支出
A6: 二、国有企业资本金注入
A7: 湘潭天易发展集团有限责任公司 | B7: 15000
A8: 三、国有企业政策性补贴
A9: 四、其他国有资本经营预算支出
A10: 监管企业的年报审计经费、资产清查评估费用等
A11: 五、调出资金
A12: 六、补充社会保险基金
A13: 七、年终结余

Sheet 表16
A1: 湘潭县2025年国有资本经营预算转移支付情况表
D2: 单位：万元
A3: 项目 | B3: 合计 | C3: 县直 | D3: 乡镇
A4: 上级补助收入 | B4: 0 | C4: 0 | D4: 0
A5: 说明：我县国有资本经营预算支出只有县本级支出，无转移支付支出

Sheet 表17
A1: 湘潭县2025年社会保险基金收支预算总表
A2: 单位：万元
A3: 项 目 | B3: 合计 | C3: 企业职工基本 养老保险基金 | D3: 城乡居民基本 养老保险基金 | E3: 机关事业单位基本养老保险基金 | F3: 职工基本医疗保险(含生育保险)基金 | G3: 城乡居民基本 医疗保险基金 | H3: 工伤保 险基金 | I3: 失业保 险基金
A4: 一、收入 | B4: 120686.47 | D4: 58251.833 | E4: 62434.64
A5: 其中:1.社会保险费收入 | B5: 48022.28 | D5: 20727.14 | E5: 27295.14
A6: 2.财政补贴收入 | B6: 72262.993 | D6: 37379.993 | E6: 34883
A7: 3.利息收入 | B7: 48.5 | D7: 32 | E7: 16.5
A8: 4.委托投资收益
A9: 5.转移收入 | B9: 350 | D9: 110 | E9: 240
A10: 6.其他收入 | B10: 2.7 | D10: 2.7
A11: 7.全国统筹调剂资金收入（省级专用）
A12: 8.全国统筹调剂资金收入（中央专用)
A13: 二、支出 | B13: 106386.73 | D13: 44210.193 | E13: 62176.539
A14: 其中:1.社会保险待遇支出 | B14: 106171.73 | D14: 44010.193 | E14: 62161.539
A15: 2.转移支出 | B15: 95 | D15: 80 | E15: 15
A16: 3.其他支出 | B16: 120 | D16: 120
A17: 4.全国统筹调剂资金支出（中央专用）
A18: 5.全国统筹调剂资金支出（省级专用）
A19: 三、本年收支结余 | B19: 14299.742 | D19: 14041.641 | E19: 258.10138
A20: 四、年末滚存结余 | B20: 123786.64 | D20: 122387.03 | E20: 1399.6173

Sheet 表18
A1: 湘潭县2025年社会保险基金收入预算表
A2: 单位：万元
A3: 收 入
A4: 项目 | B4: 预算数
A5: 企业职工基本养老保险基金
A6: 基本养老保险费收入
A7: 利息收入
A8: 财政补贴收入
A9: 委托投资收益
A10: 其他收入
A11: 转移收入
A12: 上级补助收入
A13: 上年结余
A14: 城乡居民基本养老保险基金 | B14: 58251.833
A15: 社会保险费收入 | B15: 20727.14
A16: 利息收入 | B16: 32
A17: 财政补贴收入 | B17: 37379.993
A18: 其他收入 | B18: 2.7
A19: 转移收入 | B19: 110
A20: 上年结余 | B20: 108345.39
A21: 机关事业单位基本养老保险基金 | B21: 62434.64
A22: 社会保险费收入 | B22: 27295.14
A23: 利息收入 | B23: 16.5
A24: 财政补贴收入 | B24: 34883
A25: 转移收入 | B25: 240
A26: 其他收入
A27: 上年结余 | B27: 1141.5159
A28: 城镇职工基本医疗保险基金（含生育保险基金）
A29: 基本医疗保险费收入
A30: 利息收入
A31: 财政补贴收入
A32: 其他收入
A33: 转移收入
A34: 上年结余
A35: 城乡居民基本医疗保险基金
A36: 缴费收入
A37: 利息收入
A38: 财政补贴收入
A39: 上年结余
... A51: 上年结余
...

Sheet 表19
A1: 湘潭县2025年社会保险基金支出预算表
A2: 单位：万元
A3: 支 出
A4: 项目 | B4: 预算数
A5: 企业职工基本养老保险基金
A6: 基本养老金支出
A7: 丧葬抚恤补助支出
A8: 转移支出
A9: 上解上级支出
A10: 年末滚存结余
A11: 城乡居民基本养老保险基金 | B11: 44210.193
A12: 社会保险待遇支出 | B12: 36800.911
A13: 个人账户养老金支出 | B13: 7209.2812
A14: 丧葬补助金支出
A15: 转移支出 | B15: 80
A16: 年末滚存结余 | B16: 122387.03
A17: 机关事业单位基本养老保险基金 | B17: 62176.539
A18: 社会保险待遇支出 | B18: 62161.539
A19: 其他支出
A20: 转移支出 | B20: 15
A21: 年末滚存结余 | B21: 1399.6173
A22: 城镇职工基本医疗保险基金（含生育保险基金）
A23: 基本医疗保险待遇支出
A24: 转移支出
A25: 其他支出
A26: 年末滚存结余
A27: 城乡居民基本医疗保险基金
A28: 基本医疗保险待遇支出
A29: 大病保险支出
A30: 年末滚存结余
A31: 工伤保险基金
A32: 工伤保险待遇支出
A33: 劳动能力鉴定支出
... A49: 年末滚存结余
A50: 合计 | B50: =B11+B17 -> 106386.73

Sheet 表20
A1: 湘潭县2025年本级政府一般债务限额和余额情况表
C2: 单位：万元
A3: 项目 | B3: 限额 | C3: 余额
A4: 湘潭县 | B4: 561780 | C4: 561770.85

Sheet 表21
A1: 湘潭县2025年本级政府专项债务限额和余额情况表
A2: 单位：万元
A3: 项目 | B3: 限额 | C3: 余额
A4: 湘潭县 | B4: 1692871 | C4: 1687782.7

Sheet 表22
A1: 湘潭县2025年本级新增地方政府债券资金使用安排
A2: 单位：万元
A3: 项目 | B3: 金额 | C3: 单位
A5: 说明：根据相关要求，年初预算编制不预计政府债券金额，待省厅下达资金文件后再据实安排。

Sheet 表23
A1: 湘潭县2025年重大政策和重点项目绩效目标表
A2: 单位：万元
A3: 主管单位 | B3: 项目名称 | C3: 资金总额 | D3: 实施期绩效目标 | E3: 绩效指标
E4: 一级指标 | F4: 二级指标 | G4: 三级指标 | H4: 指标值 | I4: 指标值内容 | J4: 度量单位 | K4: 指标值类型
A5: 湘潭县教育局 | B5: 校车补助县级配套资金 | C5: 233.38 | D5: 建立安全校车运营体系，保障资金专款专用，实现全县幼儿安全乘车零事故，提升校车管理专业化水平。 | E5: 产出指标 | F5: 数量指标 | G5: 园车座位数 | H5: 2812 | I5: 满足全县幼儿上下学乘车需求 | J5: 座 | K5: 定量
E6: 产出指标 | F6: 质量指标 | G6: 校车安全标准符合率 | H6: 符合规定 | I6: 符合GB2440-2012和GB24406-2012技术标准 | J6: / | K6: 定性
E7: 产出指标 | F7: 时效指标 | G7: 补贴发放及时性 | H7: 2025年12月底前完成 | I7: 按时完成校车补贴发放及考核奖励 | J7: 日期 | K7: 定量
E8: 产出指标 | F8: 成本指标 | G8: 安全管理经费保障率 | H8: 233.38 | I8: 全额落实安全运营补贴及管理经费 | J8: 万元 | K8: 定量
E9: 效益指标 | F9: 经济效益指标 | G9: 专项资金使用效率 | H9: 233.38 | I9: 实现县级配套资金100%专款专用 | J9: 万元 | K9: 定量
E10: 效益指标 | F10: 社会效益指标 | G10: 校车服务覆盖率 | H10: 基本满足全县需求 | I10: 实现幼儿乘车零重大伤亡事故，校车公司化管理覆盖率100% | J10: % | K10: 定性
E11: 效益指标 | F11: 生态效益指标 | G11: 校车尾气排放合格率 | H11: 1 | I11: 符合国IV排放标准(GB17691-2005/GB3847-2005) | J11: % | K11: 定量
E12: 效益指标 | F12: 可持续影响指标 | G12: 安全管理长效机制建立 | H12: 社会评价良好 | I12: 校车安全管理模式获持续推广，形成稳定发展基础 | J12: / | K12: 定性
E13: 满意度指标 | F13: 服务对象满意度 | G13: 学生家长/校车公司满意度 | H13: ≥95% | I13: 乘车安全、服务效率、管理规范性等方面综合满意度 | J13: % | K13: 定量
A14: 湘潭县民政局 | B14: 湘潭县残疾人生活补贴项目 | C14: 150 | D14: 为湘潭县残疾人提供生活补贴，改善其生活条件 | E14: 产出指标 | F14: 数量指标 | G14: 困难残疾人生活补贴、重度残疾人护理补贴(100元/人.月）申报审批 | H14: 100% | I14: / | J14: / | K14: 定量
F15: 质量指标 | G15: 困难残疾人生活补贴、重度残疾人护理补贴每月20日前报一次异动，及时掌握动态，将残疾证变更的和新增的及时变更。 | H15: 12次 | I15: / | J15: 次数 | K15: 定量
F16: 时效指标 | G16: 每月按时发放 | H16: 每个月10日前 | I16: / | J16: 日期 | K16: 定量
F17: 成本指标 | G17: 补贴资金 | H17: 2641万元 | I17: / | J17: 万元 | K17: 定量
E18: 效益指标 | F18: 经济效益指标 | G18: 激发残疾人的生活热情，为社会发展做出贡献 | H18: 1 | I18: / | J18: / | K18: 定性
F19: 社会效益指标 | G19: 解决残疾人生活困难和护理补贴,促进和谐社会、小康社会的全面建成 | H19: 1 | I19: / | J19: / | K19: 定性
F20: 生态效益指标 | G20: 提高幸福指数，打造关爱残疾人的社会环境 | H20: 1 | I20: / | J20: / | K20: 定性
F21: 可持续影响指标 | G21: 营造关爱残疾人良好社会氛围，促进残疾人福利体系的发展 | H21: 1 | I21: / | J21: / | K21: 定性
F22: 社会公众或服务对象满意度指标 | G22: 反映良好 | H22: ≥95% | I22: 满意度 | J22: % | K22: 定量
