Workbook

Sheet 路肩防护工程明细
A1: 李王线（X017）路面破损处治工程明细表
A2: 序号 | B2: 桩号位置 | C2: 项目内容 | D2: 相关尺寸 | G2: 挖除水泥混凝土路面（m³） | H2: 人工清理土方量（m³） | I2: 浇筑C30砼面层厚24cm（㎡） | J2: φ14*0.7钢筋根数（根） | K2: φ14钢筋长度（m） | L2: 备注
D3: 长（m） | E3: 宽（m） | F3: 高（m）
A4: 1 | B4: K4+490 （左幅） | C4: 挖除水泥混凝土路面 | D4: 8.6 | E4: 2.8 | F4: 0.2 | G4: =D4*E4*F4 -> 4.816
C5: 人工清理土方 | D5: 8.6 | E5: 2.8 | F5: 0.04 | H5: =D5*E5*F5 -> 0.9632
C6: 浇筑C30砼面层厚24cm | D6: 8.6 | E6: 2.8 | F6: 0.24 | I6: =D6*E6 -> 24.08
C7: φ14拉筋 | D7: 8.6 | J7: 9 | K7: =J7*0.7 -> 6.3
A8: 2 | B8: K5+814 （左幅） | C8: 挖除水泥混凝土路面 | D8: 4 | E8: 2.8 | F8: 0.2 | G8: =D8*E8*F8 -> 2.24
C9: 人工清理土方 | D9: 4 | E9: 2.8 | F9: 0.04 | H9: =D9*E9*F9 -> 0.448
C10: 浇筑C30砼面层厚24cm | D10: 4 | E10: 2.8 | F10: 0.24 | I10: =D10*E10 -> 11.2
C11: φ14拉筋 | D11: 4 | J11: 3 | K11: =J11*0.7 -> 2.1
A12: 3 | B12: K7+025 （左幅） | C12: 挖除水泥混凝土路面 | D12: 3.3 | E12: 2.8 | F12: 0.2 | G12: =D12*E12*F12 -> 1.848
C13: 人工清理土方 | D13: 3.3 | E13: 2.8 | F13: 0.04 | H13: =D13*E13*F13 -> 0.3696
C14: 浇筑C30砼面层厚24cm | D14: 3.3 | E14: 2.8 | F14: 0.24 | I14: =D14*E14 -> 9.24
C15: φ14拉筋 | D15: 3.3 | J15: 3 | K15: =J15*0.7 -> 2.1
B16: K7+025 （右幅） | C16: 挖除水泥混凝土路面 | D16: 3.3 | E16: 2.8 | F16: 0.2 | G16: =D16*E16*F16 -> 1.848
C17: 人工清理土方 | D17: 3.3 | E17: 2.8 | F17: 0.04 | H17: =D17*E17*F17 -> 0.3696
C18: 浇筑C30砼面层厚24cm | D18: 3.3 | E18: 2.8 | F18: 0.24 | I18: =D18*E18 -> 9.24
A19: 4 | B19: K7+407 （左幅） | C19: 挖除水泥混凝土路面 | D19: 3.7 | E19: 2.8 | F19: 0.2 | G19: =D19*E19*F19 -> 2.072
C20: 人工清理土方 | D20: 3.7 | E20: 2.8 | F20: 0.04 | H20: =D20*E20*F20 -> 0.4144
C21: 浇筑C30砼面层厚24cm | D21: 3.7 | E21: 2.8 | F21: 0.24 | I21: =D21*E21 -> 10.36
B22: K7+407 （右幅） | C22: 挖除水泥混凝土路面 | D22: 8.3 | E22: 2.8 | F22: 0.2 | G22: =D22*E22*F22 -> 4.648
C23: 人工清理土方 | D23: 8.3 | E23: 2.8 | F23: 0.04 | H23: =D23*E23*F23 -> 0.9296
C24: 浇筑C30砼面层厚24cm | D24: 8.3 | E24: 2.8 | F24: 0.24 | I24: =D24*E24 -> 23.24
C25: φ14拉筋 | D25: 8.3 | J25: 8 | K25: =J25*0.7 -> 5.6
A26: 5 | B26: K7+470 （左幅） | C26: 挖除水泥混凝土路面 | D26: 4.6 | E26: 2.8 | F26: 0.2 | G26: =D26*E26*F26 -> 2.576
C27: 人工清理土方 | D27: 4.6 | E27: 2.8 | F27: 0.04 | H27: =D27*E27*F27 -> 0.5152
C28: 浇筑C30砼面层厚24cm | D28: 4.6 | E28: 2.8 | F28: 0.24 | I28: =D28*E28 -> 12.88
C29: φ14拉筋 | D29: 4.6 | J29: 4 | K29: =J29*0.7 -> 2.8
A30: 6 | B30: K7+780 （左幅） | C30: 挖除水泥混凝土路面 | D30: 13.5 | E30: 2.8 | F30: 0.2 | G30: =D30*E30*F30 -> 7.56
C31: 人工清理土方 | D31: 13.5 | E31: 2.8 | F31: 0.04 | H31: =D31*E31*F31 -> 1.512
C32: 浇筑C30砼面层厚24cm | D32: 13.5 | E32: 2.8 | F32: 0.24 | I32: =D32*E32 -> 37.8
B33: K7+780 （右幅） | C33: 挖除水泥混凝土路面 | D33: 13.5 | E33: 2.8 | F33: 0.2 | G33: =D33*E33*F33 -> 7.56
C34: 人工清理土方 | D34: 13.5 | E34: 2.8 | F34: 0.04 | H34: =D34*E34*F34 -> 1.512
C35: 浇筑C30砼面层厚24cm | D35: 13.5 | E35: 2.8 | F35: 0.24 | I35: =D35*E35 -> 37.8
C36: φ14拉筋 | D36: 13.5 | J36: 14 | K36: =J36*0.7 -> 9.8
A37: 7 | B37: K8+840 （左幅） | C37: 挖除水泥混凝土路面 | D37: 25 | E37: 2.8 | F37: 0.2 | G37: =D37*E37*F37 -> 14
C38: 人工清理土方 | D38: 25 | E38: 2.8 | F38: 0.04 | H38: =D38*E38*F38 -> 2.8
C39: 浇筑C30砼面层厚24cm | D39: 25 | E39: 2.8 | F39: 0.24 | I39: =D39*E39 -> 70
C40: φ14拉筋 | D40: 25 | J40: 27 | K40: =J40*0.7 -> 18.9
...

Sheet 【标表2】工程量清单表（100章）
A1: 工程量清单表
A2: 项目名称：李王线（X017）路面破损处治工程
A3: 第100章 总则
A4: 子目号 | B4: 子目名称 | C4: 单位 | D4: 数量 | F4: 单价 | G4: 合价 | H4: 备注
A5: 101 | B5: 保险费
A6: 101-01 | B6: 保险费
A7: 101-01-01 | B7: 建筑工程一切险 | C7: 总额 | D7: 1 | F7: =SUM(工程量清单汇总表!E6:E13)*0.4% -> 524.60821
A8: 101-01-02 | B8: 第三方责任险 | C8: 总额 | D8: 1 | F8: =F7 -> 524.60821
A9: 102 | B9: 工程管理费
A10: 102-01 | B10: 养护记录及档案资料费 | C10: 总额 | D10: 1 | F10: =SUM(工程量清单汇总表!E6:E13)*0.6% -> 786.91231
A11: 102-03 | B11: 安全生产费 | C11: 总额 | D11: 1 | F11: =SUM(工程量清单汇总表!E6:E13)*1.5% -> 1967.2808
B14: 第100章 合计 人民币 | D14: =F7+F8+F10+F11 -> 3803.4095 | H14: 元
A16: 编制： | C16: 复核：

Sheet 【标表2】工程量清单表（300章）
A1: 工程量清单表
A2: 项目名称：李王线（X017）路面破损处治工程
A3: 第300章 路面工程
A4: 子目号 | B4: 子目名称 | C4: 单位 | D4: 数量 | F4: 单价 | G4: 合价 | H4: 备注
A5: 305 | B5: 挖除、铣刨旧路面
A6: 305-01 | B6: 水泥混凝土路面
A7: 305-01-01 | B7: 挖除水泥混凝土路面 | C7: m3 | D7: =路肩防护工程明细!G88 -> 148.064 | F7: 122.31 | G7: =F7*D7 -> 18109.708
A8: 305-05 | B8: 挖除基层、底基层
A9: 305-05-01 | B9: 人工清理土方 | C9: m3 | D9: =路肩防护工程明细!H88 -> 29.6128 | F9: 42.38 | G9: =F9*D9 -> 1254.9905
A10: 322 | B10: 水泥混凝土面板
A11: 322-01 | B11: 水泥混凝土面板
A12: 322-01-01 | B12: 厚24cm（按厚度从薄到厚依次排列） | C12: m2 | D12: =路肩防护工程明细!I88 -> 740.32 | F12: 149.56 | G12: =F12*D12 -> 110722.26 | H12: 单价=97.45+5.79*9
A13: 322-05 | B13: 路面钢筋
A14: 322-05-01 | B14: 路面钢筋（制作费） | C14: kg | D14: =路肩防护工程明细!K88*1.21 -> 187.187 | F14: 2.73 | G14: =F14*D14 -> 511.02051 | H14: 数量=长度*1.21
A15: 32205-02 | B15: 路面钢筋（材料费） | C15: kg | D15: =D14 -> 187.187 | F15: 2.96 | G15: =F15*D15 -> 554.07352
B16: 第300章 合计 人民币 | D16: =SUM(G5:G15) -> 131152.05 | H16: 元
A18: 编制： | C18: 复核：

Sheet 工程量清单汇总表
A1: 工程量清单汇总表
A2: 项目名称：李王线（X017）路面破损处治工程
A4: 序号 | B4: 章次 | C4: 科目名称 | E4: 金额（元）
A5: 1 | B5: 100 | C5: 总则 | E5: ='【标表2】工程量清单表（100章）'!D14 -> 3803.4095
A6: 2 | B6: 200 | C6: 路基工程
A7: 3 | B7: 300 | C7: 路面工程 | E7: ='【标表2】工程量清单表（300章）'!D16 -> 131152.05
A8: 4 | B8: 400 | C8: 桥涵工程
A9: 5 | B9: 500 | C9: 隧道工程
A10: 6 | B10: 600 | C10: 安全设施及预埋管件工程
A11: 7 | B11: 700 | C11: 绿化及环境保护工程
A12: 8 | B12: 800 | C12: 房建工程
A13: 9 | B13: 900 | C13: 机电工程
A14: 10 | B14: 第100章至第900章合计 | E14: =SUM(E5:E13) -> 134955.46
A15: 11 | B15: 已包含在清单合计中的材料、工程设备、专业工程暂估价合计
A16: 12 | B16: 清单合计减去材料、工程设备、专业工程暂估价合计
A17: 13 | B17: 计日工合计
A18: 14 | B18: 暂列金额（不含计日工总额） | E18: =E14*3% -> 4048.6638
A19: 15 | B19: 工程量清单总价 | E19: =E14+E17+E18 -> 139004.12
A20: 清单 第 1 页 | E20: 共 1 页
A21: 编制： | D21: 复核：
